BEGIN:VCALENDAR
VERSION:2.0
PRODID:-//TSV Gaildorf - ECPv6.15.20//NONSGML v1.0//EN
CALSCALE:GREGORIAN
METHOD:PUBLISH
X-WR-CALNAME:TSV Gaildorf
X-ORIGINAL-URL:https://tsv-gaildorf.de
X-WR-CALDESC:Veranstaltungen für TSV Gaildorf
REFRESH-INTERVAL;VALUE=DURATION:PT1H
X-Robots-Tag:noindex
X-PUBLISHED-TTL:PT1H
BEGIN:VTIMEZONE
TZID:UTC
BEGIN:STANDARD
TZOFFSETFROM:+0000
TZOFFSETTO:+0000
TZNAME:UTC
DTSTART:20250101T000000
END:STANDARD
END:VTIMEZONE
BEGIN:VEVENT
DTSTART;TZID=UTC:20260628T150000
DTEND;TZID=UTC:20260628T173000
DTSTAMP:20260422T122539
CREATED:20260305T052751Z
LAST-MODIFIED:20260305T052751Z
UID:10000251-1782658800-1782667800@tsv-gaildorf.de
SUMMARY:TSV Tanztee
DESCRIPTION:Zeit für Musik\, Bewegung und gute Gesellschaft: Beim regelmäßigen Tanztee darf getanzt\, gelacht und geplaudert werden. Ob Walzer\, Foxtrott oder einfach ein paar freie Schritte – kommen Sie vorbei und genießen Sie einen entspannten Nachmittag mit Musik und netten Menschen.
URL:https://tsv-gaildorf.de/event/tsv-tanztee-2/2026-06-28
END:VEVENT
BEGIN:VEVENT
DTSTART;TZID=UTC:20260927T150000
DTEND;TZID=UTC:20260927T173000
DTSTAMP:20260422T122539
CREATED:20260305T052751Z
LAST-MODIFIED:20260305T052751Z
UID:10000252-1790521200-1790530200@tsv-gaildorf.de
SUMMARY:TSV Tanztee
DESCRIPTION:Zeit für Musik\, Bewegung und gute Gesellschaft: Beim regelmäßigen Tanztee darf getanzt\, gelacht und geplaudert werden. Ob Walzer\, Foxtrott oder einfach ein paar freie Schritte – kommen Sie vorbei und genießen Sie einen entspannten Nachmittag mit Musik und netten Menschen.
URL:https://tsv-gaildorf.de/event/tsv-tanztee-2/2026-09-27
END:VEVENT
BEGIN:VEVENT
DTSTART;TZID=UTC:20261108T150000
DTEND;TZID=UTC:20261108T173000
DTSTAMP:20260422T122539
CREATED:20260305T052751Z
LAST-MODIFIED:20260305T052751Z
UID:10000253-1794150000-1794159000@tsv-gaildorf.de
SUMMARY:TSV Tanztee
DESCRIPTION:Zeit für Musik\, Bewegung und gute Gesellschaft: Beim regelmäßigen Tanztee darf getanzt\, gelacht und geplaudert werden. Ob Walzer\, Foxtrott oder einfach ein paar freie Schritte – kommen Sie vorbei und genießen Sie einen entspannten Nachmittag mit Musik und netten Menschen.
URL:https://tsv-gaildorf.de/event/tsv-tanztee-2/2026-11-08
END:VEVENT
BEGIN:VEVENT
DTSTART;TZID=UTC:20261213T150000
DTEND;TZID=UTC:20261213T173000
DTSTAMP:20260422T122539
CREATED:20260305T052751Z
LAST-MODIFIED:20260305T052751Z
UID:10000254-1797174000-1797183000@tsv-gaildorf.de
SUMMARY:TSV Tanztee
DESCRIPTION:Zeit für Musik\, Bewegung und gute Gesellschaft: Beim regelmäßigen Tanztee darf getanzt\, gelacht und geplaudert werden. Ob Walzer\, Foxtrott oder einfach ein paar freie Schritte – kommen Sie vorbei und genießen Sie einen entspannten Nachmittag mit Musik und netten Menschen.
URL:https://tsv-gaildorf.de/event/tsv-tanztee-2/2026-12-13
END:VEVENT
END:VCALENDAR